BEGIN:VCALENDAR
VERSION:2.0
PRODID:-//hacksw/handcal//NONSGML v1.0//EN
CALSCALE:GREGORIAN
BEGIN:VEVENT
DTEND:20070324T230000Z
UID:69e5e225a3730
DTSTAMP:20260420T092157Z
LOCATION:0 
DESCRIPTION:
URL;VALUE=URI:
SUMMARY:20. Kieler Hochbrückenlauf
DTSTART:20070324T230000Z
END:VEVENT
END:VCALENDAR
An internal server error occurred.