BEGIN:VCALENDAR
VERSION:2.0
PRODID:-//hacksw/handcal//NONSGML v1.0//EN
CALSCALE:GREGORIAN
BEGIN:VEVENT
DTEND:20070323T230000Z
UID:69ece7ace8f85
DTSTAMP:20260425T171124Z
LOCATION:0 
DESCRIPTION:
URL;VALUE=URI:
SUMMARY:2. Ems-Dollart-Winterlaufserie 2007
DTSTART:20070323T230000Z
END:VEVENT
END:VCALENDAR
An internal server error occurred.