BEGIN:VCALENDAR
VERSION:2.0
PRODID:-//hacksw/handcal//NONSGML v1.0//EN
CALSCALE:GREGORIAN
BEGIN:VEVENT
DTEND:20070320T230000Z
UID:69e5dd668fcc8
DTSTAMP:20260420T090142Z
LOCATION:0 
DESCRIPTION:
URL;VALUE=URI:
SUMMARY:36. Stundenpaarlauf mit Musik
DTSTART:20070320T230000Z
END:VEVENT
END:VCALENDAR
An internal server error occurred.