BEGIN:VCALENDAR
VERSION:2.0
PRODID:-//hacksw/handcal//NONSGML v1.0//EN
CALSCALE:GREGORIAN
BEGIN:VEVENT
DTEND:20070317T230000Z
UID:69ed9392ca16d
DTSTAMP:20260426T052450Z
LOCATION:0 
DESCRIPTION:
URL;VALUE=URI:
SUMMARY:Winterlauf-Serie- 5.Lauf- 10km-Rundkurs - mehrmals durchlaufbar
DTSTART:20070317T230000Z
END:VEVENT
END:VCALENDAR
An internal server error occurred.