BEGIN:VCALENDAR
VERSION:2.0
PRODID:-//hacksw/handcal//NONSGML v1.0//EN
CALSCALE:GREGORIAN
BEGIN:VEVENT
DTEND:20070317T230000Z
UID:69e812187b563
DTSTAMP:20260422T011104Z
LOCATION:0 
DESCRIPTION:
URL;VALUE=URI:
SUMMARY:6. Harreshäuser Waldlauf - Rund um die Pyramideneiche
DTSTART:20070317T230000Z
END:VEVENT
END:VCALENDAR
An internal server error occurred.