BEGIN:VCALENDAR
VERSION:2.0
PRODID:-//hacksw/handcal//NONSGML v1.0//EN
CALSCALE:GREGORIAN
BEGIN:VEVENT
DTEND:20070317T230000Z
UID:69e6306a0c587
DTSTAMP:20260420T145554Z
LOCATION:0 
DESCRIPTION:
URL;VALUE=URI:
SUMMARY:5. Bad Windsheimer Weinturm-Lauf
DTSTART:20070317T230000Z
END:VEVENT
END:VCALENDAR
An internal server error occurred.