BEGIN:VCALENDAR
VERSION:2.0
PRODID:-//hacksw/handcal//NONSGML v1.0//EN
CALSCALE:GREGORIAN
BEGIN:VEVENT
DTEND:20070316T230000Z
UID:69ed474c48961
DTSTAMP:20260425T235924Z
LOCATION:0 
DESCRIPTION:
URL;VALUE=URI:
SUMMARY:13. Sulzburger Frühlingslauf (1. Lauf zum Markgräfler Cup 2007)
DTSTART:20070316T230000Z
END:VEVENT
END:VCALENDAR
An internal server error occurred.