BEGIN:VCALENDAR
VERSION:2.0
PRODID:-//hacksw/handcal//NONSGML v1.0//EN
CALSCALE:GREGORIAN
BEGIN:VEVENT
DTEND:20070316T230000Z
UID:69ed93974674f
DTSTAMP:20260426T052455Z
LOCATION:0 
DESCRIPTION:
URL;VALUE=URI:
SUMMARY:21. Sandhofer Straßenlauf- 10 km Start 15:30- 5 km Start 14:30m- Schülerläufe Start 13:15
DTSTART:20070316T230000Z
END:VEVENT
END:VCALENDAR
An internal server error occurred.