BEGIN:VCALENDAR
VERSION:2.0
PRODID:-//hacksw/handcal//NONSGML v1.0//EN
CALSCALE:GREGORIAN
BEGIN:VEVENT
DTEND:20070310T230000Z
UID:69e54fb591928
DTSTAMP:20260419T225709Z
LOCATION:0 
DESCRIPTION:
URL;VALUE=URI:
SUMMARY:5. Offenbacher Rosenhöhe-Waldlauf
DTSTART:20070310T230000Z
END:VEVENT
END:VCALENDAR
An internal server error occurred.