BEGIN:VCALENDAR
VERSION:2.0
PRODID:-//hacksw/handcal//NONSGML v1.0//EN
CALSCALE:GREGORIAN
BEGIN:VEVENT
DTEND:20070310T230000Z
UID:69e9b91ccc534
DTSTAMP:20260423T071556Z
LOCATION:0 
DESCRIPTION:
URL;VALUE=URI:
SUMMARY:Auf die Platte - fertig - los
DTSTART:20070310T230000Z
END:VEVENT
END:VCALENDAR
An internal server error occurred.