BEGIN:VCALENDAR
VERSION:2.0
PRODID:-//hacksw/handcal//NONSGML v1.0//EN
CALSCALE:GREGORIAN
BEGIN:VEVENT
DTEND:20070309T230000Z
UID:69ed6bc7b6831
DTSTAMP:20260426T023503Z
LOCATION:0 
DESCRIPTION:
URL;VALUE=URI:
SUMMARY:18. Winterlaufserie der LG Dornburg- 3. Lauf
DTSTART:20070309T230000Z
END:VEVENT
END:VCALENDAR
An internal server error occurred.