BEGIN:VCALENDAR
VERSION:2.0
PRODID:-//hacksw/handcal//NONSGML v1.0//EN
CALSCALE:GREGORIAN
BEGIN:VEVENT
DTEND:20070224T230000Z
UID:69ed6654234c4
DTSTAMP:20260426T021148Z
LOCATION:0 
DESCRIPTION:
URL;VALUE=URI:
SUMMARY:23. Winterlaufserie des GSV Porz- 3. Lauf
DTSTART:20070224T230000Z
END:VEVENT
END:VCALENDAR
An internal server error occurred.