BEGIN:VCALENDAR
VERSION:2.0
PRODID:-//hacksw/handcal//NONSGML v1.0//EN
CALSCALE:GREGORIAN
BEGIN:VEVENT
DTEND:20070223T230000Z
UID:69e98927bde89
DTSTAMP:20260423T035119Z
LOCATION:0 
DESCRIPTION:
URL;VALUE=URI:
SUMMARY:15. Waldnieler Halbmarathon + 5 km Lauf
DTSTART:20070223T230000Z
END:VEVENT
END:VCALENDAR
An internal server error occurred.