BEGIN:VCALENDAR
VERSION:2.0
PRODID:-//hacksw/handcal//NONSGML v1.0//EN
CALSCALE:GREGORIAN
BEGIN:VEVENT
DTEND:20070223T230000Z
UID:69ece6c945979
DTSTAMP:20260425T170737Z
LOCATION:0 
DESCRIPTION:
URL;VALUE=URI:
SUMMARY:18. Winterlaufserie der LG Dornburg- 2. Lauf
DTSTART:20070223T230000Z
END:VEVENT
END:VCALENDAR
An internal server error occurred.