BEGIN:VCALENDAR
VERSION:2.0
PRODID:-//hacksw/handcal//NONSGML v1.0//EN
CALSCALE:GREGORIAN
BEGIN:VEVENT
DTEND:20070223T230000Z
UID:69e6306679dad
DTSTAMP:20260420T145550Z
LOCATION:0 
DESCRIPTION:
URL;VALUE=URI:
SUMMARY:15. Bad Salzuflen Marathon
DTSTART:20070223T230000Z
END:VEVENT
END:VCALENDAR
An internal server error occurred.