BEGIN:VCALENDAR
VERSION:2.0
PRODID:-//hacksw/handcal//NONSGML v1.0//EN
CALSCALE:GREGORIAN
BEGIN:VEVENT
DTEND:20070210T230000Z
UID:69e9a30b8237a
DTSTAMP:20260423T054147Z
LOCATION:0 
DESCRIPTION:
URL;VALUE=URI:
SUMMARY:24. Breitenbacher Winterlaufserie
DTSTART:20070210T230000Z
END:VEVENT
END:VCALENDAR
An internal server error occurred.