BEGIN:VCALENDAR
VERSION:2.0
PRODID:-//hacksw/handcal//NONSGML v1.0//EN
CALSCALE:GREGORIAN
BEGIN:VEVENT
DTEND:20070210T230000Z
UID:69e6306ae64d8
DTSTAMP:20260420T145554Z
LOCATION:0 
DESCRIPTION:
URL;VALUE=URI:
SUMMARY:16. Ismaninger Winterlaufserie 
DTSTART:20070210T230000Z
END:VEVENT
END:VCALENDAR
An internal server error occurred.