BEGIN:VCALENDAR
VERSION:2.0
PRODID:-//hacksw/handcal//NONSGML v1.0//EN
CALSCALE:GREGORIAN
BEGIN:VEVENT
DTEND:20070203T230000Z
UID:69ece2c8b2dd2
DTSTAMP:20260425T165032Z
LOCATION:0 
DESCRIPTION:
URL;VALUE=URI:
SUMMARY:23. Winterlaufserie des GSV Porz- 2. Lauf
DTSTART:20070203T230000Z
END:VEVENT
END:VCALENDAR
An internal server error occurred.