BEGIN:VCALENDAR
VERSION:2.0
PRODID:-//hacksw/handcal//NONSGML v1.0//EN
CALSCALE:GREGORIAN
BEGIN:VEVENT
DTEND:20070127T230000Z
UID:69ed72fdf3d1c
DTSTAMP:20260426T030549Z
LOCATION:0 
DESCRIPTION:
URL;VALUE=URI:
SUMMARY:14. Winterlauf- und Wanderserie 100 km um den Jaderberger Zoo
DTSTART:20070127T230000Z
END:VEVENT
END:VCALENDAR
An internal server error occurred.