BEGIN:VCALENDAR
VERSION:2.0
PRODID:-//hacksw/handcal//NONSGML v1.0//EN
CALSCALE:GREGORIAN
BEGIN:VEVENT
DTEND:20070127T230000Z
UID:69ece2c93a003
DTSTAMP:20260425T165033Z
LOCATION:0 
DESCRIPTION:
URL;VALUE=URI:
SUMMARY:Winterlauf-Serie- 3.Lauf- 5km-Rundkurs - ein- bis viermal durchlaufbar
DTSTART:20070127T230000Z
END:VEVENT
END:VCALENDAR
An internal server error occurred.