BEGIN:VCALENDAR
VERSION:2.0
PRODID:-//hacksw/handcal//NONSGML v1.0//EN
CALSCALE:GREGORIAN
BEGIN:VEVENT
DTEND:20070126T230000Z
UID:69ed93965c4fd
DTSTAMP:20260426T052454Z
LOCATION:0 
DESCRIPTION:
URL;VALUE=URI:
SUMMARY:4. Lauf zur 31. Crosslaufserie im Kreis Bernkastel-Wittlich
DTSTART:20070126T230000Z
END:VEVENT
END:VCALENDAR
An internal server error occurred.