BEGIN:VCALENDAR
VERSION:2.0
PRODID:-//hacksw/handcal//NONSGML v1.0//EN
CALSCALE:GREGORIAN
BEGIN:VEVENT
DTEND:20070120T230000Z
UID:69eca7bd3d564
DTSTAMP:20260425T123837Z
LOCATION:0 
DESCRIPTION:
URL;VALUE=URI:
SUMMARY:14. Winterlaufserie des TSV Ippinghausen- 3. Lauf
DTSTART:20070120T230000Z
END:VEVENT
END:VCALENDAR
An internal server error occurred.