BEGIN:VCALENDAR
VERSION:2.0
PRODID:-//hacksw/handcal//NONSGML v1.0//EN
CALSCALE:GREGORIAN
BEGIN:VEVENT
DTEND:20070113T230000Z
UID:69ed3dbb20fc0
DTSTAMP:20260425T231835Z
LOCATION:0 
DESCRIPTION:
URL;VALUE=URI:
SUMMARY:14. Winterlauf- und Wanderserie 100km um den Jaderberger Zoo
DTSTART:20070113T230000Z
END:VEVENT
END:VCALENDAR
An internal server error occurred.