BEGIN:VCALENDAR
VERSION:2.0
PRODID:-//hacksw/handcal//NONSGML v1.0//EN
CALSCALE:GREGORIAN
BEGIN:VEVENT
DTEND:20070113T230000Z
UID:69ed520c957a6
DTSTAMP:20260426T004516Z
LOCATION:0 
DESCRIPTION:
URL;VALUE=URI:
SUMMARY:30. Marathonstaffellauf der SKV Mörfelden im Rahmen der 30. WL-Serie
DTSTART:20070113T230000Z
END:VEVENT
END:VCALENDAR
An internal server error occurred.