BEGIN:VCALENDAR
VERSION:2.0
PRODID:-//hacksw/handcal//NONSGML v1.0//EN
CALSCALE:GREGORIAN
BEGIN:VEVENT
DTEND:20070113T230000Z
UID:69ebe8506b657
DTSTAMP:20260424T230152Z
LOCATION:0 
DESCRIPTION:
URL;VALUE=URI:
SUMMARY:22. Bönener Volkslauf Rund um Flierich
DTSTART:20070113T230000Z
END:VEVENT
END:VCALENDAR
An internal server error occurred.