BEGIN:VCALENDAR
VERSION:2.0
PRODID:-//hacksw/handcal//NONSGML v1.0//EN
CALSCALE:GREGORIAN
BEGIN:VEVENT
DTEND:20070112T230000Z
UID:69e75d62d6c95
DTSTAMP:20260421T122002Z
LOCATION:0 
DESCRIPTION:
URL;VALUE=URI:
SUMMARY:32. Limes-Winterlaufserie- 2. Lauf
DTSTART:20070112T230000Z
END:VEVENT
END:VCALENDAR
An internal server error occurred.