BEGIN:VCALENDAR
VERSION:2.0
PRODID:-//hacksw/handcal//NONSGML v1.0//EN
CALSCALE:GREGORIAN
BEGIN:VEVENT
DTEND:20070831T163000Z
UID:69ec157cd7c30
DTSTAMP:20260425T021436Z
LOCATION:51465 Bergisch Gladbach
DESCRIPTION:3. Tag Bahnlaufserie
URL;VALUE=URI:
SUMMARY:25. Bergisch Gladbacher Bahnlaufserie - 3. Tag Bahnlaufserie -
DTSTART:20070830T230000Z
END:VEVENT
END:VCALENDAR
An internal server error occurred.