BEGIN:VCALENDAR
VERSION:2.0
PRODID:-//hacksw/handcal//NONSGML v1.0//EN
CALSCALE:GREGORIAN
BEGIN:VEVENT
DTEND:20070622T173000Z
UID:69ed4129e790f
DTSTAMP:20260425T233313Z
LOCATION:51429 Bergisch Gladbach - Bensberg
DESCRIPTION:alle Teilnehmerinnen haben anschließend freien Eintritt in die Wellness-Landschaft Mediterana !
URL;VALUE=URI:
SUMMARY:22. Bensberger Frauenlauf u. Mediterana Walking Day
DTSTART:20070621T230000Z
END:VEVENT
END:VCALENDAR
An internal server error occurred.