BEGIN:VCALENDAR
VERSION:2.0
PRODID:-//hacksw/handcal//NONSGML v1.0//EN
CALSCALE:GREGORIAN
BEGIN:VEVENT
DTEND:20070511T180000Z
UID:69e5bb29a5d7b
DTSTAMP:20260420T063537Z
LOCATION:51427 Bergisch Gladbach - Refrath
DESCRIPTION:10 km Strecke DLV-amtlich vermessen
Kinder- und Jugendläufe
Life-Musik und Rahmenprogramm v.d.Bühne
URL;VALUE=URI:
SUMMARY:4. Kirschblütenlauf u. Refrath-tecis-Meile
DTSTART:20070510T230000Z
END:VEVENT
END:VCALENDAR
An internal server error occurred.