BEGIN:VCALENDAR
VERSION:2.0
PRODID:-//hacksw/handcal//NONSGML v1.0//EN
CALSCALE:GREGORIAN
BEGIN:VEVENT
DTEND:20070519T150000Z
UID:69e566f160fb5
DTSTAMP:20260420T003617Z
LOCATION:37574 Einbeck
DESCRIPTION:Reizvoller Lauf durch die historische Bier- und Fachwerkstadt. Die 24\,9 Km Strecke ist ein anspruchsvoller Landschaftslauf.
URL;VALUE=URI:
SUMMARY:5. Einbecker Bierstadt-Lauf
DTSTART:20070518T230000Z
END:VEVENT
END:VCALENDAR
An internal server error occurred.