BEGIN:VCALENDAR
VERSION:2.0
PRODID:-//hacksw/handcal//NONSGML v1.0//EN
CALSCALE:GREGORIAN
BEGIN:VEVENT
DTEND:20070609T131500Z
UID:69e6af8b92673
DTSTAMP:20260420T235819Z
LOCATION:88690 Uhldingen-Mühlhofen
DESCRIPTION:Nach dem Startschuss durch Prinz Bernhard von Baden führt der Lauf vorbei an oder durch vier der schönsten Sehenswürdigkeiten der Bodenseeregion: das Pfahlbaumuseum Unteruhldingen\, Schloss Salem\, Affenberg Salem und die Klosterkirche Birnau. 
URL;VALUE=URI:
SUMMARY:2. Uhldinger Pfahlbaumarathon
DTSTART:20070608T230000Z
END:VEVENT
END:VCALENDAR
An internal server error occurred.