BEGIN:VCALENDAR
VERSION:2.0
PRODID:-//hacksw/handcal//NONSGML v1.0//EN
CALSCALE:GREGORIAN
BEGIN:VEVENT
DTEND:20070617T080000Z
UID:69e7235cc83c1
DTSTAMP:20260421T081228Z
LOCATION:2000 Stockerau
DESCRIPTION:
URL;VALUE=URI:
SUMMARY:3. Stockerauer Raiffeisen Halbmarathon
DTSTART:20070616T230000Z
END:VEVENT
END:VCALENDAR
An internal server error occurred.