BEGIN:VCALENDAR
VERSION:2.0
PRODID:-//hacksw/handcal//NONSGML v1.0//EN
CALSCALE:GREGORIAN
BEGIN:VEVENT
DTEND:20071013T130000Z
UID:69ed2133241f3
DTSTAMP:20260425T211651Z
LOCATION:4563 Micheldorf
DESCRIPTION:
URL;VALUE=URI:
SUMMARY:19. Int. Raiffeisen Sport Rankl Strassenlauf Micheldorf 
DTSTART:20071012T230000Z
END:VEVENT
END:VCALENDAR
An internal server error occurred.