BEGIN:VCALENDAR
VERSION:2.0
PRODID:-//hacksw/handcal//NONSGML v1.0//EN
CALSCALE:GREGORIAN
BEGIN:VEVENT
DTEND:20070909T083000Z
UID:69e9ade4d9c3f
DTSTAMP:20260423T062804Z
LOCATION:3204 Kirchberg a.d. Pielach
DESCRIPTION:
URL;VALUE=URI:
SUMMARY:Kirchberger Marktlauf
DTSTART:20070908T230000Z
END:VEVENT
END:VCALENDAR
An internal server error occurred.