BEGIN:VCALENDAR
VERSION:2.0
PRODID:-//hacksw/handcal//NONSGML v1.0//EN
CALSCALE:GREGORIAN
BEGIN:VEVENT
DTEND:20070909T080000Z
UID:69e9ade3a7260
DTSTAMP:20260423T062803Z
LOCATION:2482 Ebreichsdorf
DESCRIPTION:NEU 10.000m AIMS vermessen
URL;VALUE=URI:
SUMMARY:6.Int. Ebreichsdorfer Stadtlauf
DTSTART:20070908T230000Z
END:VEVENT
END:VCALENDAR
An internal server error occurred.