BEGIN:VCALENDAR
VERSION:2.0
PRODID:-//hacksw/handcal//NONSGML v1.0//EN
CALSCALE:GREGORIAN
BEGIN:VEVENT
DTEND:20070630T080000Z
UID:69e9569635ee0
DTSTAMP:20260423T001534Z
LOCATION:8663 Veitsch
DESCRIPTION:
URL;VALUE=URI:
SUMMARY:21. Veitscher Ultra-Alpin-Marathon 
DTSTART:20070629T230000Z
END:VEVENT
END:VCALENDAR
An internal server error occurred.