BEGIN:VCALENDAR
VERSION:2.0
PRODID:-//hacksw/handcal//NONSGML v1.0//EN
CALSCALE:GREGORIAN
BEGIN:VEVENT
DTEND:20070630T133000Z
UID:69e7d99686795
DTSTAMP:20260421T210958Z
LOCATION:5441 Abtenau
DESCRIPTION:
URL;VALUE=URI:
SUMMARY:14. Abtenauer Panoramalauf
DTSTART:20070629T230000Z
END:VEVENT
END:VCALENDAR
An internal server error occurred.