BEGIN:VCALENDAR
VERSION:2.0
PRODID:-//hacksw/handcal//NONSGML v1.0//EN
CALSCALE:GREGORIAN
BEGIN:VEVENT
DTEND:20070908T130000Z
UID:69e93d45b0ac0
DTSTAMP:20260422T222733Z
LOCATION:6822 Satteins
DESCRIPTION:
URL;VALUE=URI:
SUMMARY:6. Satteinser Rundlauf
DTSTART:20070907T230000Z
END:VEVENT
END:VCALENDAR
An internal server error occurred.