BEGIN:VCALENDAR
VERSION:2.0
PRODID:-//hacksw/handcal//NONSGML v1.0//EN
CALSCALE:GREGORIAN
BEGIN:VEVENT
DTEND:20070630T130000Z
UID:69e85f20c434e
DTSTAMP:20260422T063944Z
LOCATION:4210 Gallneukirchen
DESCRIPTION:
URL;VALUE=URI:
SUMMARY:6. Citylauf Gallneukirchen
DTSTART:20070629T230000Z
END:VEVENT
END:VCALENDAR
An internal server error occurred.