BEGIN:VCALENDAR
VERSION:2.0
PRODID:-//hacksw/handcal//NONSGML v1.0//EN
CALSCALE:GREGORIAN
BEGIN:VEVENT
DTEND:20070908T140000Z
UID:69e93d2e44157
DTSTAMP:20260422T222710Z
LOCATION:4470 Enns
DESCRIPTION:
URL;VALUE=URI:
SUMMARY:3. Ennser Sparkassen Stadtlauf 
DTSTART:20070907T230000Z
END:VEVENT
END:VCALENDAR
An internal server error occurred.