BEGIN:VCALENDAR
VERSION:2.0
PRODID:-//hacksw/handcal//NONSGML v1.0//EN
CALSCALE:GREGORIAN
BEGIN:VEVENT
DTEND:20070630T164000Z
UID:69e7d9933c636
DTSTAMP:20260421T210955Z
LOCATION:4050 Traun / St. Martin
DESCRIPTION:Im Rahmen des Pfarrfestes wird dieser Bewerb nun schon zum 18. Male ausgetragen.
Die 5.000m Strecke führt abschnittweise auf Asphalt und auf Waldwegen.
URL;VALUE=URI:
SUMMARY:19. St. Martiner Volkslauf
DTSTART:20070629T230000Z
END:VEVENT
END:VCALENDAR
An internal server error occurred.