BEGIN:VCALENDAR
VERSION:2.0
PRODID:-//hacksw/handcal//NONSGML v1.0//EN
CALSCALE:GREGORIAN
BEGIN:VEVENT
DTEND:20070907T180000Z
UID:69eca06f512d9
DTSTAMP:20260425T120727Z
LOCATION:0 Baden-Mödling
DESCRIPTION:
URL;VALUE=URI:
SUMMARY:5. Weinstraßenlauf
DTSTART:20070906T230000Z
END:VEVENT
END:VCALENDAR
An internal server error occurred.