BEGIN:VCALENDAR
VERSION:2.0
PRODID:-//hacksw/handcal//NONSGML v1.0//EN
CALSCALE:GREGORIAN
BEGIN:VEVENT
DTEND:20070901T060000Z
UID:69e92cb2d7790
DTSTAMP:20260422T211650Z
LOCATION:0 Kittsee Kalch
DESCRIPTION:
URL;VALUE=URI:
SUMMARY:Austria Race Across Burgenland
DTSTART:20070831T230000Z
END:VEVENT
END:VCALENDAR
An internal server error occurred.