BEGIN:VCALENDAR
VERSION:2.0
PRODID:-//hacksw/handcal//NONSGML v1.0//EN
CALSCALE:GREGORIAN
BEGIN:VEVENT
DTEND:20070624T070000Z
UID:69e812197c52e
DTSTAMP:20260422T011105Z
LOCATION:6830 Laterns
DESCRIPTION:
URL;VALUE=URI:
SUMMARY:6. Gapfohler Berglauf Laterns
DTSTART:20070623T230000Z
END:VEVENT
END:VCALENDAR
An internal server error occurred.