BEGIN:VCALENDAR
VERSION:2.0
PRODID:-//hacksw/handcal//NONSGML v1.0//EN
CALSCALE:GREGORIAN
BEGIN:VEVENT
DTEND:20070901T140000Z
UID:69e92cbca7952
DTSTAMP:20260422T211700Z
LOCATION:8163 Anger
DESCRIPTION:
URL;VALUE=URI:
SUMMARY:15. Heilbrunner Almenland-Waldlauf
DTSTART:20070831T230000Z
END:VEVENT
END:VCALENDAR
An internal server error occurred.