BEGIN:VCALENDAR
VERSION:2.0
PRODID:-//hacksw/handcal//NONSGML v1.0//EN
CALSCALE:GREGORIAN
BEGIN:VEVENT
DTEND:20070624T080000Z
UID:69e7e3e4f0af8
DTSTAMP:20260421T215356Z
LOCATION:5630 Bad Hofgastein
DESCRIPTION:
URL;VALUE=URI:
SUMMARY:19. Bad Hofgasteiner
DTSTART:20070623T230000Z
END:VEVENT
END:VCALENDAR
An internal server error occurred.