BEGIN:VCALENDAR
VERSION:2.0
PRODID:-//hacksw/handcal//NONSGML v1.0//EN
CALSCALE:GREGORIAN
BEGIN:VEVENT
DTEND:20070901T131500Z
UID:69e972a9a2076
DTSTAMP:20260423T021521Z
LOCATION:3550 Langenlois
DESCRIPTION:
URL;VALUE=URI:
SUMMARY:22. Langenloiser Stadtlauf 
DTSTART:20070831T230000Z
END:VEVENT
END:VCALENDAR
An internal server error occurred.