BEGIN:VCALENDAR
VERSION:2.0
PRODID:-//hacksw/handcal//NONSGML v1.0//EN
CALSCALE:GREGORIAN
BEGIN:VEVENT
DTEND:20070624T091500Z
UID:69e859df55978
DTSTAMP:20260422T061719Z
LOCATION:4975 Suben/Inn
DESCRIPTION:
URL;VALUE=URI:
SUMMARY:9. Subener Geländelauf
DTSTART:20070623T230000Z
END:VEVENT
END:VCALENDAR
An internal server error occurred.