BEGIN:VCALENDAR
VERSION:2.0
PRODID:-//hacksw/handcal//NONSGML v1.0//EN
CALSCALE:GREGORIAN
BEGIN:VEVENT
DTEND:20070624T083000Z
UID:69e7a04728b0e
DTSTAMP:20260421T170527Z
LOCATION:4470 Steyr
DESCRIPTION:Schülerlauf\, Er& Sie-Lauf\, Hauptlauf 

URL;VALUE=URI:
SUMMARY:25. Steyrer Stadtlauf
DTSTART:20070623T230000Z
END:VEVENT
END:VCALENDAR
An internal server error occurred.