BEGIN:VCALENDAR
VERSION:2.0
PRODID:-//hacksw/handcal//NONSGML v1.0//EN
CALSCALE:GREGORIAN
BEGIN:VEVENT
DTEND:20070624T080000Z
UID:69e972c536a6c
DTSTAMP:20260423T021549Z
LOCATION:2500 Baden
DESCRIPTION:
URL;VALUE=URI:
SUMMARY:Move your body - Badener Stadtlauf
DTSTART:20070623T230000Z
END:VEVENT
END:VCALENDAR
An internal server error occurred.